BEGIN:VCALENDAR
VERSION:2.0
PRODID:-//ChamberMaster//Event Calendar 2.0//EN
METHOD:PUBLISH
X-PUBLISHED-TTL:P1H
REFRESH-INTERVAL:P1H
CALSCALE:GREGORIAN
BEGIN:VTIMEZONE
TZID:America/New_York
BEGIN:DAYLIGHT
RRULE:FREQ=YEARLY;BYMONTH=3;BYDAY=2SU
DTSTART:20070101T000000
TZOFFSETFROM:-0500
TZOFFSETTO:-0400
TZNAME:Eastern Daylight Time
END:DAYLIGHT
BEGIN:STANDARD
RRULE:FREQ=YEARLY;BYMONTH=11;BYDAY=1SU
DTSTART:20070101T000000
TZOFFSETFROM:-0400
TZOFFSETTO:-0500
TZNAME:Eastern Standard Time
END:STANDARD
END:VTIMEZONE
BEGIN:VEVENT
DTSTART;VALUE=DATE:20260831
DTEND;VALUE=DATE:20260903
TRANSP:TRANSPARENT
X-MICROSOFT-CDO-ALLDAYEVENT:TRUE
SUMMARY:TMA OPSTech 2026
DESCRIPTION:OPSTech 2026: Where Monitoring Leaders Solve Real Operational ChallengesOPSTech is more than a conference\; it's a highly interactive forum for professionals across the monitoring ecosystem   including operations leaders\, technology innovators\, solutions providers\, and industry partners   focused on improving performance\, exploring new technologies and sharing practical solutions.At OPSTech\, you'll have the opportunity to connect with peers from across the industry\, gain practical ideas you can apply immediately\, and engage in meaningful discussions about the challenges and opportunities shaping the professional monitoring industry today. Together participants explore how emerging technologies like artificial intelligence\, automation\, and video are transforming operations and driving innovation.You'll also build valuable connections with professionals who understand the realities of delivering\, supporting\, and advancing modern monitoring.EARLY-BIRD REGISTRATION DEADLINE: July 15\, 2026Register early to save!Please note: All cancellation requests between August 10th - August 21st must be approved in writing and will be refunded less a 15% processing fee. No refunds will be given after August 21st.Interested in boosting your company's exposure and supporting TMA's educational opportunities? Sponsor TMA's OPSTech Meeting by contacting Evan Newman\, Director of Strategic Growth & Membership\, at enewman@tma.us.
X-ALT-DESC;FMTTYPE=text/html:<!DOCTYPE html><html><head><title></title></head><body aria-disabled="false"><div data-message-author-role="assistant" data-message-id="5b8c62f7-4730-4e93-8797-41f96a247f1e" dir="auto"><div data-message-author-role="assistant" data-message-id="5b8c62f7-4730-4e93-8797-41f96a247f1e" dir="auto"><p><strong fr-original-style="" style="font-weight: 700\;">OPSTech 2026: Where Monitoring Leaders Solve Real Operational Challenges</strong></p><p>OPSTech is more than a conference\; it&rsquo\;s a highly interactive forum for professionals across the monitoring ecosystem &ndash\; including operations leaders\, technology innovators\, solutions providers\, and industry partners &ndash\; focused on improving performance\, exploring new technologies and sharing practical solutions.</p><p>At OPSTech\, you&rsquo\;ll have the opportunity to connect with peers from across the industry\, gain practical ideas you can apply immediately\, and engage in meaningful discussions about the challenges and opportunities shaping the professional monitoring industry today. Together participants explore how emerging technologies like artificial intelligence\, automation\, and video are transforming operations and driving innovation.</p><p>You&rsquo\;ll also build valuable connections with professionals who understand the realities of delivering\, supporting\, and advancing modern monitoring.</p><p><strong fr-original-style="" style="font-weight: 700\;">EARLY-BIRD REGISTRATION DEADLINE: July 15\, 2026</strong></p><p>Register early to save!</p><p><strong fr-original-style="" style="font-weight: 700\;">Please note: <strong fr-original-style="" style="font-weight: 700\;">All cancellation requests between August 10th - August 21st must be approved in writing and will be refunded less a 15% processing fee. No refunds will be given after August 21st.</strong></strong></p><p>Interested in boosting your company&rsquo\;s exposure and supporting TMA&#39\;s educational opportunities? Sponsor TMA&#39\;s OPSTech Meeting by contacting Evan Newman\, Director of Strategic Growth &amp\; Membership\, at enewman@tma.us.</p></div></div><p><br></p><p><br></p></body></html>
LOCATION:1580 Point W Blvd Coppell TX 75019
UID:e.3366.1409649
SEQUENCE:3
DTSTAMP:20260421T092042Z
URL:https://my.tma.us/eventcalendar/Details/tma-opstech-2026-1665800?sourceTypeId=Hub
END:VEVENT
END:VCALENDAR
